BEGIN:VCALENDAR
VERSION:2.0
PRODID:-//urwahl3000//offene-gruene-liste-horb.de//DE
CALSCALE:GREGORIAN
BEGIN:VEVENT
DTSTART:20210523T060000
DTEND:20210612T233000
LOCATION: Stadt Horb
DTSTAMP:20210523T060000
SUMMARY:Stadtradeln Horb 2021 vom 23. Mai bis 12. Juni 2021
URL;VALUE=URI:https://offene-gruene-liste-horb.de/termin/stadtradeln-horb-2021/
DESCRIPTION:Die Stadt Horb am Neckar im Landkreis Freudenstadt nimmt vom <strong>23. Mai bis 12. Juni 2021</strong> am STADTRADELN teil. Alle, die in der Stadt Horb am Neckar im Landkreis Freudenstadt wohnen, arbeiten, einem Verein angehören oder eine (Hoch-)Schule besuchen, können beim STADTRADELN mitmachen.

In Horb am Neckar im Landkreis Freudenstadt haben sich bisher <b>256 Radelnde</b> registriert.

Mehr Informationen gibt es unter:

<a href="https://www.stadtradeln.de/horb">https://www.stadtradeln.de/horb</a>

Wer selber mitradeln möchte, kann sich hier registrieren:

<a href="https://www.stadtradeln.de/index.php?id=171&L=1&city_preselect=1460">https://www.stadtradeln.de/index.php?id=171&L=1&city_preselect=1460</a>
UID:20210523T060000-20210523T060000-20210612T233000
END:VEVENT
END:VCALENDAR